BEGIN:VCALENDAR
VERSION:2.0
PRODID:http://gdg-rheydt-west.de
BEGIN:VEVENT
UID:fc282e06-407c-11f1-b997-0242ac11002b-1778083200000-de
DTSTAMP:20260425T080137Z
DTSTART:20260506T160000Z
SUMMARY;LANGUAGE=de:1. Maiandacht in Herz Jesu mit Ausschmückung des Marienaltares
END:VEVENT
END:VCALENDAR
