BEGIN:VCALENDAR
VERSION:2.0
PRODID:http://gdg-rheydt-west.de
BEGIN:VEVENT
UID:81ecc240-407e-11f1-b997-0242ac11002b-1777915800000-de
DTSTAMP:20260425T081231Z
DTSTART:20260504T173000Z
SUMMARY;LANGUAGE=de:Gemeindeausschuss Herz Jesu / St. Johannes im Begegnungszentrum Hannes 19:30 Uhr 
END:VEVENT
END:VCALENDAR
