BEGIN:VCALENDAR
VERSION:2.0
PRODID:http://gdg-rheydt-west.de
BEGIN:VEVENT
UID:3683c47b-3da1-11f1-b997-0242ac11002b-1778522400000-de
DTSTAMP:20260421T164323Z
DTSTART:20260511T180000Z
SUMMARY;LANGUAGE=de:Öffentliches Treffen der Vernetzungsgruppe Herz Jesu  / Sitzungszimmer im Pfarrhaus Am Martinshof 6 
END:VEVENT
END:VCALENDAR
